BEGIN:VCALENDAR
VERSION:2.0
PRODID:-//Holcot Parish Council//Meeting Calendar//EN
CALSCALE:GREGORIAN
METHOD:PUBLISH
BEGIN:VEVENT
UID:70454-20250120@holcot-pc.gov.uk
DTSTAMP:20260422T084839Z
DTSTART;VALUE=DATE:20250120
DTEND;VALUE=DATE:20250121
SUMMARY:Full Council Meeting &#8211\\; 20 January 2025
DESCRIPTION:Full Council Meeting\nView details: https://holcot-pc.gov.uk/meetings/full-council-meeting-20-january-2025/
URL:https://holcot-pc.gov.uk/meetings/full-council-meeting-20-january-2025/
END:VEVENT
END:VCALENDAR
