BEGIN:VCALENDAR
VERSION:2.0
PRODID:-//Holcot Parish Council//Meeting Calendar//EN
CALSCALE:GREGORIAN
METHOD:PUBLISH
BEGIN:VEVENT
UID:70460-20250317@holcot-pc.gov.uk
DTSTAMP:20260423T141404Z
DTSTART;VALUE=DATE:20250317
DTEND;VALUE=DATE:20250318
SUMMARY:Full Council Meeting &#8211\\; 17 March 2025
DESCRIPTION:Full Council Meeting\nView details: https://holcot-pc.gov.uk/meetings/full-council-meeting-17-march-2025/
URL:https://holcot-pc.gov.uk/meetings/full-council-meeting-17-march-2025/
END:VEVENT
END:VCALENDAR
