BEGIN:VCALENDAR
VERSION:2.0
PRODID:-//Holcot Parish Council//Meeting Calendar//EN
CALSCALE:GREGORIAN
METHOD:PUBLISH
BEGIN:VEVENT
UID:70466-20250414@holcot-pc.gov.uk
DTSTAMP:20260423T141909Z
DTSTART;VALUE=DATE:20250414
DTEND;VALUE=DATE:20250415
SUMMARY:Full Council Meeting &#8211\\; 14 April 2025
DESCRIPTION:Full Council Meeting\nView details: https://holcot-pc.gov.uk/meetings/full-council-meeting-14-april-2025/
URL:https://holcot-pc.gov.uk/meetings/full-council-meeting-14-april-2025/
END:VEVENT
END:VCALENDAR
