BEGIN:VCALENDAR
VERSION:2.0
PRODID:-//Holcot Parish Council//Meeting Calendar//EN
CALSCALE:GREGORIAN
METHOD:PUBLISH
BEGIN:VEVENT
UID:70474-20250818@holcot-pc.gov.uk
DTSTAMP:20260423T081314Z
DTSTART;VALUE=DATE:20250818
DTEND;VALUE=DATE:20250819
SUMMARY:Full Council Meeting &#8211\\; 18 August 2025
DESCRIPTION:Full Council Meeting\nView details: https://holcot-pc.gov.uk/meetings/full-council-meeting-18-august-2025/
URL:https://holcot-pc.gov.uk/meetings/full-council-meeting-18-august-2025/
END:VEVENT
END:VCALENDAR
