BEGIN:VCALENDAR
VERSION:2.0
PRODID:-//Holcot Parish Council//Meeting Calendar//EN
CALSCALE:GREGORIAN
METHOD:PUBLISH
BEGIN:VEVENT
UID:70476-20251020@holcot-pc.gov.uk
DTSTAMP:20260422T083351Z
DTSTART;VALUE=DATE:20251020
DTEND;VALUE=DATE:20251021
SUMMARY:Full Council Meeting &#8211\\; 20 October 2025
DESCRIPTION:Full Council Meeting\nView details: https://holcot-pc.gov.uk/meetings/full-council-meeting-20-october-2025/
URL:https://holcot-pc.gov.uk/meetings/full-council-meeting-20-october-2025/
END:VEVENT
END:VCALENDAR
