BEGIN:VCALENDAR
VERSION:2.0
PRODID:-//Holcot Parish Council//Meeting Calendar//EN
CALSCALE:GREGORIAN
METHOD:PUBLISH
BEGIN:VEVENT
UID:70477-20251117@holcot-pc.gov.uk
DTSTAMP:20260420T124642Z
DTSTART;VALUE=DATE:20251117
DTEND;VALUE=DATE:20251118
SUMMARY:Full Council Meeting &#8211\\; 17 November 2025
DESCRIPTION:Full Council Meeting\nView details: https://holcot-pc.gov.uk/meetings/full-council-meeting-17-november-2025/
URL:https://holcot-pc.gov.uk/meetings/full-council-meeting-17-november-2025/
END:VEVENT
END:VCALENDAR
