BEGIN:VCALENDAR
VERSION:2.0
PRODID:-//Holcot Parish Council//Meeting Calendar//EN
CALSCALE:GREGORIAN
METHOD:PUBLISH
BEGIN:VEVENT
UID:70491-20240415@holcot-pc.gov.uk
DTSTAMP:20260422T084656Z
DTSTART;VALUE=DATE:20240415
DTEND;VALUE=DATE:20240416
SUMMARY:Full Council Meeting &#8211\\; 15 April 2024
DESCRIPTION:Full Council Meeting\nView details: https://holcot-pc.gov.uk/meetings/full-council-meeting-15-april-2024/
URL:https://holcot-pc.gov.uk/meetings/full-council-meeting-15-april-2024/
END:VEVENT
END:VCALENDAR
