BEGIN:VCALENDAR
VERSION:2.0
PRODID:-//Holcot Parish Council//Meeting Calendar//EN
CALSCALE:GREGORIAN
METHOD:PUBLISH
BEGIN:VEVENT
UID:70494-20240430@holcot-pc.gov.uk
DTSTAMP:20260423T141404Z
DTSTART;VALUE=DATE:20240430
DTEND;VALUE=DATE:20240501
SUMMARY:Annual Parish Meeting &#8211\\; 30 April 2024
DESCRIPTION:Annual Parish Meeting\nView details: https://holcot-pc.gov.uk/meetings/annual-parish-meeting-30-april-2024/
URL:https://holcot-pc.gov.uk/meetings/annual-parish-meeting-30-april-2024/
END:VEVENT
END:VCALENDAR
