BEGIN:VCALENDAR
VERSION:2.0
PRODID:-//Holcot Parish Council//Meeting Calendar//EN
CALSCALE:GREGORIAN
METHOD:PUBLISH
BEGIN:VEVENT
UID:70506-20240819@holcot-pc.gov.uk
DTSTAMP:20260420T083352Z
DTSTART;VALUE=DATE:20240819
DTEND;VALUE=DATE:20240820
SUMMARY:Full Council Meeting &#8211\\; 19 August 2024
DESCRIPTION:Full Council Meeting\nView details: https://holcot-pc.gov.uk/meetings/full-council-meeting-19-august-2024/
URL:https://holcot-pc.gov.uk/meetings/full-council-meeting-19-august-2024/
END:VEVENT
END:VCALENDAR
