BEGIN:VCALENDAR
VERSION:2.0
PRODID:-//Holcot Parish Council//Meeting Calendar//EN
CALSCALE:GREGORIAN
METHOD:PUBLISH
BEGIN:VEVENT
UID:70561-20220517@holcot-pc.gov.uk
DTSTAMP:20260423T124020Z
DTSTART;VALUE=DATE:20220517
DTEND;VALUE=DATE:20220518
SUMMARY:Annual Parish Meeting &#8211\\; 17 May 2022
DESCRIPTION:Annual Parish Meeting\nView details: https://holcot-pc.gov.uk/meetings/annual-parish-meeting-17-may-2022/
URL:https://holcot-pc.gov.uk/meetings/annual-parish-meeting-17-may-2022/
END:VEVENT
END:VCALENDAR
