BEGIN:VCALENDAR
VERSION:2.0
PRODID:-//Holcot Parish Council//Meeting Calendar//EN
CALSCALE:GREGORIAN
METHOD:PUBLISH
BEGIN:VEVENT
UID:70941-20260119@holcot-pc.gov.uk
DTSTAMP:20260420T082035Z
DTSTART;VALUE=DATE:20260119
DTEND;VALUE=DATE:20260120
SUMMARY:Full Council Meeting – 19 January 2026 &#8211\\; CANCELLED
DESCRIPTION:Full Council Meeting\nView details: https://holcot-pc.gov.uk/meetings/full-council-meeting-19-january-2026/
URL:https://holcot-pc.gov.uk/meetings/full-council-meeting-19-january-2026/
END:VEVENT
END:VCALENDAR
